Workbook

Sheet Informace
A2: Informace o činnostech zpracování osobních údajů
A3: Správce osobních údajů | B3: Dům dětí a mládeže Veselí nad Moravou, příspěvková organizace, Hutník 1495, Veselí nad Moravou
A4: Pověřenec pro ochranu osobních údajů | B4: Středisko služeb školám a zařízení pro další vzdělávání pedagogických pracovníků Brno, příspěvková organizace, Hybešova 15, Brno, 602 00, Mgr. Eva Valkounová, Ph.D., tel.: +420 / 543 426 011, email: gdpr@sssbrno.cz
A5: Subjekt OÚ | B5: Účel zpracování | C5: Právní důvod zpracování | D5: Výčet OÚ | E5: Zveřejnění OÚ | F5: Příjemci OÚ | G5: Doba zpracování
A6: zaměstnanci a členové orgánů správce | B6: vedení personální a mzdové agendy a plnění povinností vyplývajících z pracovního poměru | C6: čl. 6 odst. 1 písm. b) GDPR – splnění smlouvy (pracovní smlouva, smlouva o výkonu funkce) čl. 6 odst. 1 písm. c) GDPR – splnění právní povinnosti správce dle zákona č. 262/2006 Sb., zákoníku práce, zákona č. 563/2004 Sb.,o pedagogických pracovnících a jiných pracovněprávních předpisů | D6: jméno, příjmení, rodné příjmení, místo narození, bydliště, datum narození, rodné číslo, číslo OP, telefon, pracovní email,číslo bankovního účtu, druh účtu, pracovní zařazení, dosažené vzdělání, kvalifikace, odborné znalosti a dovednosti, průběh dosavadního zaměstnání, potvrzení o předchozím zaměstnání/studiu/ÚP, srážky ze mzdy(pracovní smlouva a §109 a násl. Zákona č. 262/2006 Sb., zákoník práce) výpis z RT (§ 29a zákona č. 563/2004 Sb.,o pedagogických pracovnících) | E6: osobní údaje v rozsahu jméno, příjmení, pracovní zařazení jsou uvedeny v prostorách střediska v případě pracovníků, kteří v rámci svého pracovního zařazení komunikují s veřejností, jsou uveřejněny údaje o jménu, příjmení, pracovním zařazení a pracovním emailu na webu střediska | F6: bankovní instituce (identifikace osob oprávněných disponovat s bankovními účty), zpracovatelé osobních údajů (poskytovatelé služeb, při kterých dochází ke zpracování OÚ) | G6: po dobu trvání pracovněprávního vztahu a dále jsou pak uloženy po dobu běhu archivačních lhůt, nejméně po dobu 15 let od ukončení pracovního poměru
B7: plnění ohlašovací povinnosti vůči oprávněným orgánům | C7: čl. 6 odst. 1 písm. b) GDPR – splnění smlouvy (pracovní smlouva, smlouva o výkonu funkce) čl. 6 odst. 1 písm. c) GDPR – splnění právní povinnosti správce dle zákona č. 262/2006 Sb., zákoníku práce, zákona č. 582/1991 Sb., o organizaci a provádění sociálního zabezpečení, zákon č. 48/1997, o veřejném zdravotním pojištění zákona č. 435/2004 Sb., o zaměstnanosti a jiných pracovněprávních předpisů | D7: jméno, příjmení, rodné příjmení, místo narození, bydliště, přechodné bydliště, datum narození, rodné číslo,státní příslušnost (§37 zákona č. 582/1991 Sb., o organizaci a provádění sociálního zabezpečení) zdravotní pojišťovna (§ 10 zákon č. 48/1997, o veřejném zdravotním pojištění) zdravotní způsobilost a znevýhodnění (§ 83 zákona č. 435/2004 Sb., o zaměstnanosti) počet dětí, výše pobíraných dávek nemocenského pojištění, (§36 zákona č. 582/1991 Sb., o organizaci a provádění sociálního zabezpečení) | E7: nezveřejňuje se | F7: orgány veřejné správy, zdravotní pojišťovna, zpracovatelé osobních údajů (poskytovatelé služeb, při kterých dochází ke zpracování OÚ) | G7: po dobu trvání pracovněprávního vztahu a dále jsou pak uloženy po dobu běhu archivačních lhůt, nejméně po dobu 15 let od ukončení pracovního poměru
B8: vedení daňového účetnictví dle zákona č. 586/1992 Sb., o daních z příjmů | C8: čl. 6 odst. 1 písm. c) – GDPR splnění právní povinnosti správce dle zákona o daních z příjmů a souvisejících právních předpisů | D8: jméno, příjmení, rodné příjmení, titul, bydliště, přechodné bydliště, rodné číslo, státní příslušnost, telefon, e-mail, rodinní příslušníci a další vyživované osoby, údaje o manželce/ovi, jméno, příjmení, název a adresa zaměstnavatele (§ 6 a násl. zákona č. 586/1992 Sb., o daních z příjmů), informace o příjmech | E8: nezveřejňuje se | F8: orgány veřejné správy, zpracovatelé osobních údajů (poskytovatelé služeb, při kterých dochází ke zpracování OÚ) | G8: po dobu trvání pracovněprávního vztahu a dále jsou pak uloženy po dobu běhu archivačních lhůt, nejméně po dobu 15 let od ukončení pracovního poměru
B9: pořizování obrazových a zvukových záznamů pro propagaci správce a jeho činnosti | C9: čl. 6 odst. 1 písm. a) GDPR – Souhlas se zpracováním OÚ | D9: jméno, příjmení, pracovní pozice, funkce, fotografie, videozáznamy | E9: osobní údaje zaměstnanců (jméno, příjmení, pracovní zařazení, fotografie) se zveřejňují na nástěnkách a propagačních materiálech zařízení, v publikacích a v tisku. Fotografie a audiovizuální záznamy zaměstnanců se zveřejňuji na webových stránkách zařízení, sociálních sítích střediska např. Facebook, Instagram, YouTube apod.), v publikacích a v tisku | F9: zpracovatelé osobních údajů (poskytovatelé služeb, při kterých dochází ke zpracování OÚ) | G9: po dobu 15 let od ukončení pracovního poměru, dále po dobu trvání existence správce archivovány výhradně pro účely archivace, historického a vědeckého výzkumu
A10: děti | B10: vedení matriky, plnění povinností dle školského zákona a souvisejících právních předpisů | C10: čl. 6 odst. 1 písm. c) GDPR – splnění právní povinnosti správce dle školského zákona a souvisejících právních předpisů | D10: jméno, příjmení, datum narození, státní občanství, místo trvalého pobytu, údaje o znevýhodnění žáka, údaje o zdravotní způsobilosti a zdravotním stavu žáka, škola, do které chodí (§ 16, 17, 18, 28, 30, 41, 50, 65, 81, 164 zákona č. 561/2004 Sb., školského zákona) | E10: nezveřejňuje se | F10: oprávněné orgány veřejné správy a státní orgány (školní inspekce, PČR, OSPOD) zpracovatelé osobních údajů (poskytovatelé služeb, při kterých dochází ke zpracování OÚ) | G10: po dobu docházky do zařízení a po dobu skartačních a archivačních lhůt stanovených Ministerstvem školství, mládeže a tělovýchovy
B11: vedení evidence pro případ úrazu a potřeby ošetření dítěte | C11: čl. 6 odst. 1 písm. a) GDPR – Souhlas se zpracováním OÚ | D11: zdravotní pojišťovna | E11: nezveřejňuje se | F11: zpracovatelé osobních údajů (poskytovatelé služeb, při kterých dochází ke zpracování OÚ), lékařská služba | G11: po dobu docházky do zařízení a po dobu skartačních a archivačních lhůt stanovených Ministerstvem školství, mládeže a tělovýchovy
B12: pořizování záznamů z akcí zařízení pro účely evidence, archivace a propagace zařízení a jejích akcí | C12: čl. 6 odst. 1 písm. a) GDPR – Souhlas se zpracováním OÚ | D12: jméno, příjmení, třída, fotografie, audiovizuální záznamy | E12: osobní údaje žáků v uvedeném rozsahu se zveřejňují na nástěnkách a propagačních materiálech zařízení, v publikacích a v tisku. Fotografie a audiovizuální záznamy žáků se zveřejňuji na webových stránkách zařízení, sociálních sítích střediska např. Facebook, Instagram, YouTube apod.), v publikacích a v tisku | F12: zpracovatelé osobních údajů (poskytovatelé služeb, při kterých dochází ke zpracování OÚ) | G12: 3 roky od data přihlášení do zájmového vzdělávání
A13: zákonní zástupci dětí | B13: vedení evidence zákonných zástupců pro účely vedení matriky a plnění zákonných povinností | C13: čl. 6 odst. 1 písm. c) GDPR – splnění právní povinnosti správce dle školského zákona a souvisejících právních předpisů | D13: jméno, příjmení, trvalé bydliště, korespondenční adresa, telefonické spojení, DS (§ 16, 17, 18, 28, 30, 41, 50, 65, 81, 164 zákona č. 561/2004 Sb., školského zákona) | E13: nezveřejňuje se | F13: oprávněné orgány veřejné správy a státní orgány (školní inspekce, PČR, OSPOD) zpracovatelé osobních údajů (poskytovatelé služeb, při kterých dochází ke zpracování OÚ) | G13: po dobu docházky dítěte nebo po dobu spolupráce s SPC a po dobu skartačních a archivačních lhůt stanovených Ministerstvem školství, mládeže a tělovýchovy
B14: vedení databáze kontaktů pro komunikaci související s běžným provozem střediska a docházkou žáka | C14: čl. 6 odst. 1 písm. e) GDPR – plnění úkolů ve veřejném zájmu spočívajících v zajištění vzdělání | D14: osobní e-mail | E14: nezveřejňuje se | F14: oprávněné orgány veřejné správy a státní orgány (školní inspekce, PČR, OSPOD) zpracovatelé osobních údajů (poskytovatelé služeb, při kterých dochází ke zpracování OÚ) | G14: po dobu trvání účasti na zájmovém vzdělávání
B15: zasílání informačních sdělení | C15: čl. 6 odst. 1 písm. a) GDPR – souhlas se zpracováním OÚ | D15: osobní e-mail | E15: nezveřejňuje se | F15: oprávněné orgány veřejné správy a státní orgány (školní inspekce, PČR, OSPOD) zpracovatelé osobních údajů (poskytovatelé služeb, při kterých dochází ke zpracování OÚ) | G15: 3 roky od přihlášení k zájmovému vzdělávání
A16: účastníci soutěží | B16: pořádání soutěží | C16: čl. 6 odst. 1 písm. b) GDPR – splnění smlouvy (organizace veřejné soutěže) | D16: jméno, příjmení, datum narození, škola, do které účastník soutěže dochází | E16: jméno, příjmení, soutěžní kategorie a umístění účastníka v soutěži se zveřejňuje na webových stránkách střediska, v prostorách střediska | F16: pořadatelé vyšších úrovní soutěže, zpracovatelé osobních údajů (poskytovatelé služeb, při kterých dochází ke zpracování OÚ) | G16: po dobu trvání soutěže, dále uloženo po dobu archivačních lhůt
A17: účastníci táborů/ubytovacích akcí | B17: pořádání táborů/ubytovacích akcí – evidence účastníků | C17: čl. 6 odst. 1 písm. b) – splnění smlouvy o účasti na táboru/ ubytování čl. 6 odst. 1 písm. c) GDPR – evidenční povinnost dle § 3 g zákona č. 565/1990 Sb., o místních poplatcích čl. 6 odst. 1 písm. c) GDPR – evidenční povinnost dle § 97 ve spojení s § 101 zákona č. zákona č. 326/1999 Sb., o pobytu cizinců na území České republiky – pouze v případě cizinců | D17: jméno, příjmení, datum narození, adresa místa přihlášení nebo obdobného místa v zahraničí, číslo občanského průkazu nebo pasu, den počátku a den konce pobytu číslo víza (je-li uvedeno v cestovním dokladu), účel a předpokládaná doba pobytu, státní občanství – pouze v případě cizinců | E17: nezveřejňuje se | F17: správní a státní orgány (PČR, obec apod.), zpracovatelé osobních údajů (poskytovatelé služeb, při kterých dochází ke zpracování OÚ) | G17: záznamy v evidenční/domovní knize jsou uchovávány po dobu 6 let od provedení posledního zápisu
B18: pořádání táborů/ubytovacích akcí – vedení evidence zdravotní způsobilosti účastníků a pro případ úrazu a potřeby ošetření účastníka | C18: čl. 6 odst. 1 písm. b) – splnění smlouvy o účasti na táboru/ ubytování – v případě táborů a ubytovacích akcí pořádaných správcem | D18: zdravotní způsobilost, zdravotní pojišťovna | E18: nezveřejňuje se | F18: zpracovatelé osobních údajů (poskytovatelé služeb, při kterých dochází ke zpracování OÚ), lékařská služba | G18: osobní údaje jsou zpracovávány po dobu 1 roku od data přihlášení na tábor/ubytovací akci
B19: pořizování fotografií a audiovizuálních záznamů z tábora a ubytovacích akcí pro účely evidence, archivace a propagace správce a jeho akcí | C19: čl. 6 odst. 1 písm. a) GDPR – souhlas se zpracováním OÚ – v případě táborů a ubytovacích akcí pořádaných správcem | D19: jméno, příjmení, fotografie, audiovizuální záznamy | E19: osobní údaje účastníků táborů a ubytovacích akcí se zveřejňují na nástěnkách, propagačních materiálech, webových stránkách a sociálních sítích správce např. Facebook, Instagram, YouTube apod.). | F19: zpracovatelé osobních údajů (poskytovatelé služeb, při kterých dochází ke zpracování OÚ) | G19: osobní údaje jsou zpracovávány po dobu 15-ti let od data přihlášení na tábor/ubytovací akci
B20: pořádání táborů/ubytovacích akcí – údaje o zákonných zástupcích účastníků táborů/pobytových akcí | C20: čl. 6 odst. 1 písm. b) – splnění smlouvy o účasti na táboru/ ubytování – v případě táborů a ubytovacích akcí pořádaných správcem | D20: jméno, příjmení, bydliště, e-mail, telefon – zákonní zástupci | E20: nezveřejňuje se | F20: zpracovatelé osobních údajů (poskytovatelé služeb, při kterých dochází ke zpracování OÚ) | G20: osobní údaje jsou zpracovávány po dobu 1 roku od data přihlášení na tábor/ubytovací akci
A21: smluvní partneři správce | B21: plnění povinností vyplývajících ze smlouvy uzavřené mezi subjektem a správcem, vedení účetnictví | C21: čl. 6 odst. 1 písm. b) GDPR – splnění smlouvy čl. 6 odst. 1 písm. c) GDPR – splnění právní povinnosti správce dle zvláštních právních předpisů | D21: jméno, příjmení, sídlo, IČ, DIČ, datum narození, číslo bankovního účtu | E21: osobní údaje se zveřejňují v registru smluv za podmínek dle zákona č. 340/2015 Sb., o registru smluv, v platném a účinném znění | F21: zpracovatelé osobních údajů (poskytovatelé služeb, při kterých dochází ke zpracování OÚ) | G21: po dobu trvání smluvního vztahu a 15 let po jeho ukončení
A23: Subjekt osobních údajů má právo požadovat po správci přístup ke svým osobním údajům, uplatnit právo na přenositelnost osobních údajů, opravu, výmaz, omezení zpracování osobních údajů či námitku proti zpracování, má-li za to, že zpracování není zákonné, případně právo podat stížnost k Úřadu na ochranu osobních údajů. Souhlas se zpracování osobních údajů je kdykoliv odvolatelný.

Sheet Záznamy
A2: Záznamy o činnostech zpracování osobních údajů
A3: =Informace!A3 -> Správce osobních údajů | B3: =Informace!B3 -> Dům dětí a mládeže Veselí nad Moravou, příspěvková organizace, Hutník 1495, Veselí nad Moravou
A4: =Informace!A4 -> Pověřenec pro ochranu osobních údajů | B4: =Informace!B4 -> Středisko služeb školám a zařízení pro další vzdělávání pedagogických pracovníků Brno, příspěvková organizace, Hybešova 15, Brno, 602 00, Mgr. Eva Valkounová, Ph.D., tel.: +420 / 543 426 011, email: gdpr@sssbrno.cz
A5: =Informace!A5 -> Subjekt OÚ | B5: =Informace!B5 -> Účel zpracování | C5: =Informace!C5 -> Právní důvod zpracování | D5: =Informace!D5 -> Výčet OÚ | E5: =Informace!E5 -> Zveřejnění OÚ | F5: =Informace!F5 -> Příjemci OÚ | G5: =Informace!G5 -> Doba zpracování | H5: Bezpečnostní opatření
A6: =Informace!A6 -> zaměstnanci a členové orgánů správce | B6: =Informace!B6 -> vedení personální a mzdové agendy a plnění povinností vyplývajících z pracovního poměru | C6: =Informace!C6 -> čl. 6 odst. 1 písm. b) GDPR – splnění smlouvy (pracovní smlouva, smlouva o výkonu funkce) čl. 6 odst. 1 písm. c) GDPR – splnění právní povinnosti správce dle zákona č. 262/2006 Sb., zákoníku práce, zákona č. 563/2004 Sb.,o pedagogických pracovnících a jiných pracovněprávních předpisů | D6: =Informace!D6 -> jméno, příjmení, rodné příjmení, místo narození, bydliště, datum narození, rodné číslo, číslo OP, telefon, pracovní email,číslo bankovního účtu, druh účtu, pracovní zařazení, dosažené vzdělání, kvalifikace, odborné znalosti a dovednosti, průběh dosavadního zaměstnání, potvrzení o předchozím zaměstnání/studiu/ÚP, srážky ze mzdy(pracovní smlouva a §109 a násl. Zákona č. 262/2006 Sb., zákoník práce) výpis z RT (§ 29a zákona č. 563/2004 Sb.,o pedagogických pracovnících) | E6: =Informace!E6 -> osobní údaje v rozsahu jméno, příjmení, pracovní zařazení jsou uvedeny v prostorách střediska v případě pracovníků, kteří v rámci svého pracovního zařazení komunikují s veřejností, jsou uveřejněny údaje o jménu, příjmení, pracovním zařazení a pracovním emailu na webu střediska | F6: =Informace!F6 -> bankovní instituce (identifikace osob oprávněných disponovat s bankovními účty), zpracovatelé osobních údajů (poskytovatelé služeb, při kterých dochází ke zpracování OÚ) | G6: =Informace!G6 -> po dobu trvání pracovněprávního vztahu a dále jsou pak uloženy po dobu běhu archivačních lhůt, nejméně po dobu 15 let od ukončení pracovního poměru | H6: organizační opatření: interní směrnice o ochraně osobních údajů, dokumentace o přijatých organizačních opatřeních technická opatření mechanická: zámky technická opatření elektronická: systém hesel a přístupových práv, zabezpečení před neoprávněným přístupem do systému
A7: =Informace!A7 -> 0 | B7: =Informace!B7 -> plnění ohlašovací povinnosti vůči oprávněným orgánům | C7: =Informace!C7 -> čl. 6 odst. 1 písm. b) GDPR – splnění smlouvy (pracovní smlouva, smlouva o výkonu funkce) čl. 6 odst. 1 písm. c) GDPR – splnění právní povinnosti správce dle zákona č. 262/2006 Sb., zákoníku práce, zákona č. 582/1991 Sb., o organizaci a provádění sociálního zabezpečení, zákon č. 48/1997, o veřejném zdravotním pojištění zákona č. 435/2004 Sb., o zaměstnanosti a jiných pracovněprávních předpisů | D7: =Informace!D7 -> jméno, příjmení, rodné příjmení, místo narození, bydliště, přechodné bydliště, datum narození, rodné číslo,státní příslušnost (§37 zákona č. 582/1991 Sb., o organizaci a provádění sociálního zabezpečení) zdravotní pojišťovna (§ 10 zákon č. 48/1997, o veřejném zdravotním pojištění) zdravotní způsobilost a znevýhodnění (§ 83 zákona č. 435/2004 Sb., o zaměstnanosti) počet dětí, výše pobíraných dávek nemocenského pojištění, (§36 zákona č. 582/1991 Sb., o organizaci a provádění sociálního zabezpečení) | E7: =Informace!E7 -> nezveřejňuje se | F7: =Informace!F7 -> orgány veřejné správy, zdravotní pojišťovna, zpracovatelé osobních údajů (poskytovatelé služeb, při kterých dochází ke zpracování OÚ) | G7: =Informace!G7 -> po dobu trvání pracovněprávního vztahu a dále jsou pak uloženy po dobu běhu archivačních lhůt, nejméně po dobu 15 let od ukončení pracovního poměru
A8: =Informace!A8 -> 0 | B8: =Informace!B8 -> vedení daňového účetnictví dle zákona č. 586/1992 Sb., o daních z příjmů | C8: =Informace!C8 -> čl. 6 odst. 1 písm. c) – GDPR splnění právní povinnosti správce dle zákona o daních z příjmů a souvisejících právních předpisů | D8: =Informace!D8 -> jméno, příjmení, rodné příjmení, titul, bydliště, přechodné bydliště, rodné číslo, státní příslušnost, telefon, e-mail, rodinní příslušníci a další vyživované osoby, údaje o manželce/ovi, jméno, příjmení, název a adresa zaměstnavatele (§ 6 a násl. zákona č. 586/1992 Sb., o daních z příjmů), informace o příjmech | E8: =Informace!E8 -> nezveřejňuje se | F8: =Informace!F8 -> orgány veřejné správy, zpracovatelé osobních údajů (poskytovatelé služeb, při kterých dochází ke zpracování OÚ) | G8: =Informace!G8 -> po dobu trvání pracovněprávního vztahu a dále jsou pak uloženy po dobu běhu archivačních lhůt, nejméně po dobu 15 let od ukončení pracovního poměru
A9: =Informace!A9 -> 0 | B9: =Informace!B9 -> pořizování obrazových a zvukových záznamů pro propagaci správce a jeho činnosti | C9: =Informace!C9 -> čl. 6 odst. 1 písm. a) GDPR – Souhlas se zpracováním OÚ | D9: =Informace!D9 -> jméno, příjmení, pracovní pozice, funkce, fotografie, videozáznamy | E9: =Informace!E9 -> osobní údaje zaměstnanců (jméno, příjmení, pracovní zařazení, fotografie) se zveřejňují na nástěnkách a propagačních materiálech zařízení, v publikacích a v tisku. Fotografie a audiovizuální záznamy zaměstnanců se zveřejňuji na webových stránkách zařízení, sociálních sítích střediska např. Facebook, Instagram, YouTube apod.), v publikacích a v tisku | F9: =Informace!F9 -> zpracovatelé osobních údajů (poskytovatelé služeb, při kterých dochází ke zpracování OÚ) | G9: =Informace!G9 -> po dobu 15 let od ukončení pracovního poměru, dále po dobu trvání existence správce archivovány výhradně pro účely archivace, historického a vědeckého výzkumu
A10: =Informace!A10 -> děti | B10: =Informace!B10 -> vedení matriky, plnění povinností dle školského zákona a souvisejících právních předpisů | C10: =Informace!C10 -> čl. 6 odst. 1 písm. c) GDPR – splnění právní povinnosti správce dle školského zákona a souvisejících právních předpisů | D10: =Informace!D10 -> jméno, příjmení, datum narození, státní občanství, místo trvalého pobytu, údaje o znevýhodnění žáka, údaje o zdravotní způsobilosti a zdravotním stavu žáka, škola, do které chodí (§ 16, 17, 18, 28, 30, 41, 50, 65, 81, 164 zákona č. 561/2004 Sb., školského zákona) | E10: =Informace!E10 -> nezveřejňuje se | F10: =Informace!F10 -> oprávněné orgány veřejné správy a státní orgány (školní inspekce, PČR, OSPOD) zpracovatelé osobních údajů (poskytovatelé služeb, při kterých dochází ke zpracování OÚ) | G10: =Informace!G10 -> po dobu docházky do zařízení a po dobu skartačních a archivačních lhůt stanovených Ministerstvem školství, mládeže a tělovýchovy
A11: =Informace!A11 -> 0 | B11: =Informace!B11 -> vedení evidence pro případ úrazu a potřeby ošetření dítěte | C11: =Informace!C11 -> čl. 6 odst. 1 písm. a) GDPR – Souhlas se zpracováním OÚ | D11: =Informace!D11 -> zdravotní pojišťovna | E11: =Informace!E11 -> nezveřejňuje se | F11: =Informace!F11 -> zpracovatelé osobních údajů (poskytovatelé služeb, při kterých dochází ke zpracování OÚ), lékařská služba | G11: =Informace!G11 -> po dobu docházky do zařízení a po dobu skartačních a archivačních lhůt stanovených Ministerstvem školství, mládeže a tělovýchovy
A12: =Informace!A12 -> 0 | B12: =Informace!B12 -> pořizování záznamů z akcí zařízení pro účely evidence, archivace a propagace zařízení a jejích akcí | C12: =Informace!C12 -> čl. 6 odst. 1 písm. a) GDPR – Souhlas se zpracováním OÚ | D12: =Informace!D12 -> jméno, příjmení, třída, fotografie, audiovizuální záznamy | E12: =Informace!E12 -> osobní údaje žáků v uvedeném rozsahu se zveřejňují na nástěnkách a propagačních materiálech zařízení, v publikacích a v tisku. Fotografie a audiovizuální záznamy žáků se zveřejňuji na webových stránkách zařízení, sociálních sítích střediska např. Facebook, Instagram, YouTube apod.), v publikacích a v tisku | F12: =Informace!F12 -> zpracovatelé osobních údajů (poskytovatelé služeb, při kterých dochází ke zpracování OÚ) | G12: =Informace!G12 -> 3 roky od data přihlášení do zájmového vzdělávání
A13: =Informace!A13 -> zákonní zástupci dětí | B13: =Informace!B13 -> vedení evidence zákonných zástupců pro účely vedení matriky a plnění zákonných povinností | C13: =Informace!C13 -> čl. 6 odst. 1 písm. c) GDPR – splnění právní povinnosti správce dle školského zákona a souvisejících právních předpisů | D13: =Informace!D13 -> jméno, příjmení, trvalé bydliště, korespondenční adresa, telefonické spojení, DS (§ 16, 17, 18, 28, 30, 41, 50, 65, 81, 164 zákona č. 561/2004 Sb., školského zákona) | E13: =Informace!E13 -> nezveřejňuje se | F13: =Informace!F13 -> oprávněné orgány veřejné správy a státní orgány (školní inspekce, PČR, OSPOD) zpracovatelé osobních údajů (poskytovatelé služeb, při kterých dochází ke zpracování OÚ) | G13: =Informace!G13 -> po dobu docházky dítěte nebo po dobu spolupráce s SPC a po dobu skartačních a archivačních lhůt stanovených Ministerstvem školství, mládeže a tělovýchovy
A14: =Informace!A14 -> 0 | B14: =Informace!B14 -> vedení databáze kontaktů pro komunikaci související s běžným provozem střediska a docházkou žáka | C14: =Informace!C14 -> čl. 6 odst. 1 písm. e) GDPR – plnění úkolů ve veřejném zájmu spočívajících v zajištění vzdělání | D14: =Informace!D14 -> osobní e-mail | E14: =Informace!E14 -> nezveřejňuje se | F14: =Informace!F14 -> oprávněné orgány veřejné správy a státní orgány (školní inspekce, PČR, OSPOD) zpracovatelé osobních údajů (poskytovatelé služeb, při kterých dochází ke zpracování OÚ) | G14: =Informace!G14 -> po dobu trvání účasti na zájmovém vzdělávání
A15: =Informace!A15 -> 0 | B15: =Informace!B15 -> zasílání informačních sdělení | C15: =Informace!C15 -> čl. 6 odst. 1 písm. a) GDPR – souhlas se zpracováním OÚ | D15: =Informace!D15 -> osobní e-mail | E15: =Informace!E15 -> nezveřejňuje se | F15: =Informace!F15 -> oprávněné orgány veřejné správy a státní orgány (školní inspekce, PČR, OSPOD) zpracovatelé osobních údajů (poskytovatelé služeb, při kterých dochází ke zpracování OÚ) | G15: =Informace!G15 -> 3 roky od přihlášení k zájmovému vzdělávání
A16: =Informace!A16 -> účastníci soutěží | B16: =Informace!B16 -> pořádání soutěží | C16: =Informace!C16 -> čl. 6 odst. 1 písm. b) GDPR – splnění smlouvy (organizace veřejné soutěže) | D16: =Informace!D16 -> jméno, příjmení, datum narození, škola, do které účastník soutěže dochází | E16: =Informace!E16 -> jméno, příjmení, soutěžní kategorie a umístění účastníka v soutěži se zveřejňuje na webových stránkách střediska, v prostorách střediska | F16: =Informace!F16 -> pořadatelé vyšších úrovní soutěže, zpracovatelé osobních údajů (poskytovatelé služeb, při kterých dochází ke zpracování OÚ) | G16: =Informace!G16 -> po dobu trvání soutěže, dále uloženo po dobu archivačních lhůt
A17: =Informace!A17 -> účastníci táborů/ubytovacích akcí | B17: =Informace!B17 -> pořádání táborů/ubytovacích akcí – evidence účastníků | C17: =Informace!C17 -> čl. 6 odst. 1 písm. b) – splnění smlouvy o účasti na táboru/ ubytování čl. 6 odst. 1 písm. c) GDPR – evidenční povinnost dle § 3 g zákona č. 565/1990 Sb., o místních poplatcích čl. 6 odst. 1 písm. c) GDPR – evidenční povinnost dle § 97 ve spojení s § 101 zákona č. zákona č. 326/1999 Sb., o pobytu cizinců na území České republiky – pouze v případě cizinců | D17: =Informace!D17 -> jméno, příjmení, datum narození, adresa místa přihlášení nebo obdobného místa v zahraničí, číslo občanského průkazu nebo pasu, den počátku a den konce pobytu číslo víza (je-li uvedeno v cestovním dokladu), účel a předpokládaná doba pobytu, státní občanství – pouze v případě cizinců | E17: =Informace!E17 -> nezveřejňuje se | F17: =Informace!F17 -> správní a státní orgány (PČR, obec apod.), zpracovatelé osobních údajů (poskytovatelé služeb, při kterých dochází ke zpracování OÚ) | G17: =Informace!G17 -> záznamy v evidenční/domovní knize jsou uchovávány po dobu 6 let od provedení posledního zápisu
A18: =Informace!A18 -> 0 | B18: =Informace!B18 -> pořádání táborů/ubytovacích akcí – vedení evidence zdravotní způsobilosti účastníků a pro případ úrazu a potřeby ošetření účastníka | C18: =Informace!C18 -> čl. 6 odst. 1 písm. b) – splnění smlouvy o účasti na táboru/ ubytování – v případě táborů a ubytovacích akcí pořádaných správcem | D18: =Informace!D18 -> zdravotní způsobilost, zdravotní pojišťovna | E18: =Informace!E18 -> nezveřejňuje se | F18: =Informace!F18 -> zpracovatelé osobních údajů (poskytovatelé služeb, při kterých dochází ke zpracování OÚ), lékařská služba | G18: =Informace!G18 -> osobní údaje jsou zpracovávány po dobu 1 roku od data přihlášení na tábor/ubytovací akci
... A21: =Informace!A21 -> smluvní partneři správce | B21: =Informace!B21 -> plnění povinností vyplývajících ze smlouvy uzavřené mezi subjektem a správcem, vedení účetnictví | C21: =Informace!C21 -> čl. 6 odst. 1 písm. b) GDPR – splnění smlouvy čl. 6 odst. 1 písm. c) GDPR – splnění právní povinnosti správce dle zvláštních právních předpisů | D21: =Informace!D21 -> jméno, příjmení, sídlo, IČ, DIČ, datum narození, číslo bankovního účtu | E21: =Informace!E21 -> osobní údaje se zveřejňují v registru smluv za podmínek dle zákona č. 340/2015 Sb., o registru smluv, v platném a účinném znění | F21: =Informace!F21 -> zpracovatelé osobních údajů (poskytovatelé služeb, při kterých dochází ke zpracování OÚ) | G21: =Informace!G21 -> po dobu trvání smluvního vztahu a 15 let po jeho ukončení
